BEGIN:VCALENDAR
VERSION:2.0
PRODID:-//Fare Digitale - ECPv5.3.2.1//NONSGML v1.0//EN
CALSCALE:GREGORIAN
METHOD:PUBLISH
X-WR-CALNAME:Fare Digitale
X-ORIGINAL-URL:https://www.faredigitale.org
X-WR-CALDESC:Eventi per Fare Digitale
BEGIN:VTIMEZONE
TZID:Europe/Rome
BEGIN:DAYLIGHT
TZOFFSETFROM:+0100
TZOFFSETTO:+0200
TZNAME:CEST
DTSTART:20210328T010000
END:DAYLIGHT
BEGIN:STANDARD
TZOFFSETFROM:+0200
TZOFFSETTO:+0100
TZNAME:CET
DTSTART:20211031T010000
END:STANDARD
END:VTIMEZONE
BEGIN:VEVENT
DTSTART;TZID=Europe/Rome:20210430T180000
DTEND;TZID=Europe/Rome:20210430T200000
DTSTAMP:20260420T102356
CREATED:20210425T161538Z
LAST-MODIFIED:20210425T161538Z
UID:6549-1619805600-1619812800@www.faredigitale.org
SUMMARY:1° Assemblea Nazionale Fare Digitale
DESCRIPTION:🟨 Venerdì 30 aprile 2021 alle 18 si terrà la prima assemblea di Fare Digitale ✔\n\n\n \n\n\nIn questi pochi mesi di vita\, grazie al supporto e all’impegno di tutti i soci\, abbiamo dato prova di una grandissima vitalità: sono stati avviati numerosi progetti\, collaborazioni con partner di grande autorevolezza e sono stati realizzati incontri di spessore.\n\n\n \n\n\nL’assemblea sarà un’altra bella occasione per parlare dei prossimi eventi\, dei progetti in essere e di quelli che insieme realizzeremo. \n\n\n 
URL:https://www.faredigitale.org/event/1-assemblea-nazionale-fare-digitale/
ATTACH;FMTTYPE=image/jpeg:https://www.faredigitale.org/wp-content/uploads/2021/04/FareDigitaleAssNazionale.jpg
END:VEVENT
END:VCALENDAR