BEGIN:VCALENDAR
VERSION:2.0
PRODID:-//Fare Digitale - ECPv5.3.2.1//NONSGML v1.0//EN
CALSCALE:GREGORIAN
METHOD:PUBLISH
X-WR-CALNAME:Fare Digitale
X-ORIGINAL-URL:https://www.faredigitale.org
X-WR-CALDESC:Eventi per Fare Digitale
BEGIN:VTIMEZONE
TZID:Europe/Rome
BEGIN:DAYLIGHT
TZOFFSETFROM:+0100
TZOFFSETTO:+0200
TZNAME:CEST
DTSTART:20210328T010000
END:DAYLIGHT
BEGIN:STANDARD
TZOFFSETFROM:+0200
TZOFFSETTO:+0100
TZNAME:CET
DTSTART:20211031T010000
END:STANDARD
END:VTIMEZONE
BEGIN:VEVENT
DTSTART;TZID=Europe/Rome:20211028T160000
DTEND;TZID=Europe/Rome:20211028T180000
DTSTAMP:20260420T102839
CREATED:20210914T153101Z
LAST-MODIFIED:20210914T153157Z
UID:6659-1635436800-1635444000@www.faredigitale.org
SUMMARY:Raccontare con il Digitale
DESCRIPTION:L’evento “Raccontare con il Digitale” organizzato dall’Associazione Fare Digitale ha l’obiettivo di insegnare ai ragazzi degli istituti superiori (licei e istituti professionali) le tecniche di utilizzo della realtà virtuale per raccontare eventi storici\, personaggi e luoghi identificativi della storia. \nObiettivo dell’evento è realizzare un racconto tecnologico\, immersivo ed emozionale attraverso le seguenti fasi: \n\nCreazione del logo e della grafica coordinata\nRedazione documenti in modalità “social writing”\nSviluppo di un portale Web\nEditing e sviluppo degli ambienti in cui ambientare l’applicazione in Realtà Virtuale utilizzando la piattaforma Web Holobuilder\nTest e pubblicazione dell’intera opera
URL:https://www.faredigitale.org/event/raccontare-con-il-digitale/
END:VEVENT
END:VCALENDAR