BEGIN:VCALENDAR
VERSION:2.0
PRODID:-//Fare Digitale - ECPv5.3.2.1//NONSGML v1.0//EN
CALSCALE:GREGORIAN
METHOD:PUBLISH
X-WR-CALNAME:Fare Digitale
X-ORIGINAL-URL:https://www.faredigitale.org
X-WR-CALDESC:Eventi per Fare Digitale
BEGIN:VTIMEZONE
TZID:Europe/Rome
BEGIN:DAYLIGHT
TZOFFSETFROM:+0100
TZOFFSETTO:+0200
TZNAME:CEST
DTSTART:20210328T010000
END:DAYLIGHT
BEGIN:STANDARD
TZOFFSETFROM:+0200
TZOFFSETTO:+0100
TZNAME:CET
DTSTART:20211031T010000
END:STANDARD
END:VTIMEZONE
BEGIN:VEVENT
DTSTART;TZID=Europe/Rome:20211103T110000
DTEND;TZID=Europe/Rome:20211103T110000
DTSTAMP:20260420T101055
CREATED:20211019T174113Z
LAST-MODIFIED:20211019T174730Z
UID:6704-1635937200-1635937200@www.faredigitale.org
SUMMARY:Tecnologie digitali e linguaggi immersivi per nuovi pubblici della cultura
DESCRIPTION:Un sentito ringraziamento all’Associazione Civita per averci invitato alla Presentazione del nuovo Rapporto Civita: “Next Generation Culture. Tecnologie digitali e linguaggi immersivi per nuovi pubblici della cultura” che si terrà mercoledì 3 novembre 2021 alle ore 11 al Museo Aecheologico Nazionale di Napoli. \nÈ possibile partecipare in presenza\, senza prenotazione\, purché muniti di Green Pass. In alternativa sarà possibile seguire l’evento in streaming su Zoom e Facebook. \n \nNei mesi delle chiusure i media digitali hanno ripensato i modelli organizzativi dei musei e hanno valorizzato in modo innovativo i luoghi della cultura\, facilitando un’accessibilità molto più ampia ed inclusiva. Attraverso una collaborazione tra aziende tecnologiche e operatori del settore sarà possibile implementare il processo già iniziato e comprendere su quali forme di innovazione investire affinché la cultura svolga un ruolo da protagonista nella creazione di una responsabilità sociale e nella proposta di un modello di sviluppo sostenibile. Con la pubblicazione del XII Rapporto\, l’Associazione Civita intende dare il proprio contributo avanzando proposte per la valorizzazione e gestione del patrimonio in chiave digitale. \n \nSaluti\nPaolo Giulierini\, direttore MANN\nSimonetta Giordani\, Segretario Generale Associazione Civita\nAdele Maresca Compagna\, Presidente ICOM Italia \nIntervengono\nAlfredo Valeri\, Responsabile Ricerca Centro Studi Associazione Civita>\nLudovico Solima\, Università della Campania “Luigi Vanvitelli”\nClaudio Calveri\, Digital Strategist DeRev\nRosanna Romano\, Direttore Generale Regione Campania\nPaola Villani\, Università degli Studi Suor Orsola Benincasa\nGabriele Granato\, Presidente Associazione Fare Digitale\nGiusy Sica\, Founder think tank Re-Generation Y-outh\nGiuseppe Ariano\, Direttore Comunicazione Scabec Spa \n 
URL:https://www.faredigitale.org/event/tecnologie-digitali-pubblici-cultura/
END:VEVENT
END:VCALENDAR